BEGIN:VCALENDAR
VERSION:2.0
PRODID:-//Paroisse St-Nicolas-des-Champs - ECPv6.15.17.1//NONSGML v1.0//EN
CALSCALE:GREGORIAN
METHOD:PUBLISH
X-WR-CALNAME:Paroisse St-Nicolas-des-Champs
X-ORIGINAL-URL:https://asaintnicolas.com
X-WR-CALDESC:Évènements pour Paroisse St-Nicolas-des-Champs
REFRESH-INTERVAL;VALUE=DURATION:PT1H
X-Robots-Tag:noindex
X-PUBLISHED-TTL:PT1H
BEGIN:VTIMEZONE
TZID:Europe/Paris
BEGIN:DAYLIGHT
TZOFFSETFROM:+0100
TZOFFSETTO:+0200
TZNAME:CEST
DTSTART:20240331T010000
END:DAYLIGHT
BEGIN:STANDARD
TZOFFSETFROM:+0200
TZOFFSETTO:+0100
TZNAME:CET
DTSTART:20241027T010000
END:STANDARD
BEGIN:DAYLIGHT
TZOFFSETFROM:+0100
TZOFFSETTO:+0200
TZNAME:CEST
DTSTART:20250330T010000
END:DAYLIGHT
BEGIN:STANDARD
TZOFFSETFROM:+0200
TZOFFSETTO:+0100
TZNAME:CET
DTSTART:20251026T010000
END:STANDARD
BEGIN:DAYLIGHT
TZOFFSETFROM:+0100
TZOFFSETTO:+0200
TZNAME:CEST
DTSTART:20260329T010000
END:DAYLIGHT
BEGIN:STANDARD
TZOFFSETFROM:+0200
TZOFFSETTO:+0100
TZNAME:CET
DTSTART:20261025T010000
END:STANDARD
END:VTIMEZONE
BEGIN:VEVENT
DTSTART;TZID=Europe/Paris:20250524T133000
DTEND;TZID=Europe/Paris:20250524T213000
DTSTAMP:20260420T120518
CREATED:20250514T130212Z
LAST-MODIFIED:20250515T110752Z
UID:111095-1748093400-1748122200@asaintnicolas.com
SUMMARY:PÈLERINAGE "Coeur de femme" - Samedi 24 mai 2025
DESCRIPTION:Femmes de tout âge à partir de 12 ans\, collégiennes\, lycéennes\, étudiantes\, jeunes pro\, célibataires\, consacrées\, mariés\, mères\, grand-mères\, toutes sont conviées ! \nSAMEDI 24 MAI 2025 \nDépart depuis Saint-Nicolas-des-Champs  \nRDV à 13H30 au 49 rue de Turbigo (presbytère)\n \nSamedi 24 mai 2025\, le pèlerinage Cœur de femme marche sur les pas de la bienheureuse Sœur Rosalie Rendu. \nLe rassemblement de tous les chapitres se fera à 14h15 à la Chapelle de la Médaille Miraculeuse\, 140 rue du Bac\, 75006 Paris. \nPROGRAMME \n\n14h30 : Messe présidée par le père Arnaud Mougin à la Chapelle de la Médaille Miraculeuse.\nLe père Arnaud Mougin\, SJMV\, est curé de la paroisse Sainte-Rosalie\, où se termine notre pèlerinage.\n15h45 : Conférence sur la bienheureuse Sœur Rosalie Rendu dans la Chapelle St Vincent de Paul\, 95 rue de Sèvres\, 75006 Paris.\n17h15 : Procession en direction de l’église Sainte-Rosalie\, 50 bd Blanqui\, 75013 Paris\, avec une étape devant Notre-Dame de Paris.\nVers 19h30 : Pique-nique au square René Le Gall (13e).\n20h30-21h30 : Adoration eucharistique à l’église Sainte-Rosalie.\n21h30 : Fin du pèlerinage.\n\nINFORMATION – INSCRIPTION\nMarie-Bénédicte WAROUX : 06 84 44 49 07 \nCARNET DE CHANT À TÉLÉCHARGER \nQui est la bienheureuse Sœur Rosalie Rendu ?\n\n\n\nSœur Rosalie Rendu (1786-1856) est une religieuse de la congrégation des Filles de la charité de Saint-Vincent-de-Paul\, béatifiée en 2003\, commémorée le 7 février. \nCi-contre le logo de la paroisse Sainte-Rosalie (Paris 13e)\, à l’effigie de la bienheureuse Sœur Rosalie Rendu. \n\n\nFille de cultivateurs aisés\, elle a 3 ans quand éclate la Révolution Française\, elle en a 10 quand son père et sa plus jeune sœur meurent\, 13 quand elle entre en formation chez les Ursulines à Gex et 15 quand elle entre au noviciat des Filles de la Charité. \n\n\nElle prononce ses voeux en 1807 et est envoyée dans le quartier Mouffetard à Paris pour se dévouer aux pauvres du quartier. En 1815\, elle devient la supérieure de l’ordre. Vers 1833\, elle rencontre Frédéric Ozanam et participe avec lui à fonder la Société Saint-Vincent-de-Paul. \nCi-contre le buste de Frédéric Ozanam dans l’église Sainte-Rosalie. \n\n\n\n« Si vous voulez que quelqu’un vous aime\, aimez d’abord en premier ; et si vous n’avez rien à donner\, donnez-vous vous-même. » \nElle meurt à l’âge de 69 ans. Elle est enterrée au cimetière du Montparnasse. Depuis la béatification de Sœur Rosalie Rendu le 9 novembre 2003 par le pape St Jean-Paul II\, l’église Sainte-Rosalie (Paris 13e) est placée sous le double patronage de la bienheureuse Rosalie Rendu et de sainte Rosalie.
URL:https://asaintnicolas.com/evenement/pelerinage-coeur-de-femme-samedi-24-mai-2025/
ATTACH;FMTTYPE=image/png:https://asaintnicolas.com/wp-content/uploads/2025/05/Logo-Coeur-de-femme.png
END:VEVENT
END:VCALENDAR