BEGIN:VCALENDAR
VERSION:2.0
PRODID:-//Paroisse St-Nicolas-des-Champs - ECPv6.15.17.1//NONSGML v1.0//EN
CALSCALE:GREGORIAN
METHOD:PUBLISH
X-WR-CALNAME:Paroisse St-Nicolas-des-Champs
X-ORIGINAL-URL:https://asaintnicolas.com
X-WR-CALDESC:Évènements pour Paroisse St-Nicolas-des-Champs
REFRESH-INTERVAL;VALUE=DURATION:PT1H
X-Robots-Tag:noindex
X-PUBLISHED-TTL:PT1H
BEGIN:VTIMEZONE
TZID:Europe/Paris
BEGIN:DAYLIGHT
TZOFFSETFROM:+0100
TZOFFSETTO:+0200
TZNAME:CEST
DTSTART:20230326T010000
END:DAYLIGHT
BEGIN:STANDARD
TZOFFSETFROM:+0200
TZOFFSETTO:+0100
TZNAME:CET
DTSTART:20231029T010000
END:STANDARD
BEGIN:DAYLIGHT
TZOFFSETFROM:+0100
TZOFFSETTO:+0200
TZNAME:CEST
DTSTART:20240331T010000
END:DAYLIGHT
BEGIN:STANDARD
TZOFFSETFROM:+0200
TZOFFSETTO:+0100
TZNAME:CET
DTSTART:20241027T010000
END:STANDARD
BEGIN:DAYLIGHT
TZOFFSETFROM:+0100
TZOFFSETTO:+0200
TZNAME:CEST
DTSTART:20250330T010000
END:DAYLIGHT
BEGIN:STANDARD
TZOFFSETFROM:+0200
TZOFFSETTO:+0100
TZNAME:CET
DTSTART:20251026T010000
END:STANDARD
END:VTIMEZONE
BEGIN:VEVENT
DTSTART;TZID=Europe/Paris:20241121T181500
DTEND;TZID=Europe/Paris:20241121T194500
DTSTAMP:20260420T134209
CREATED:20220920T092245Z
LAST-MODIFIED:20240821T120529Z
UID:66883-1732212900-1732218300@asaintnicolas.com
SUMMARY:PRIÈRE DES MALADES
DESCRIPTION:La Prière des Malades aura lieu le jeudi 21 novembre de 18h15 à 19h45\nEntrée libre\nRetrouver toutes les informations en cliquant ici\n \nLa prochaine aura lieu le jeudi 28 novembre 2024 de 18h15 à 19h45
URL:https://asaintnicolas.com/evenement/priere-des-malades-69/
CATEGORIES:Prière des malades
ATTACH;FMTTYPE=image/jpeg:https://asaintnicolas.com/wp-content/uploads/2021/01/PPLM2.jpg
END:VEVENT
END:VCALENDAR